BEGIN:VCALENDAR
VERSION:2.0
PRODID:-//The New School - ECPv6.6.4.2//NONSGML v1.0//EN
CALSCALE:GREGORIAN
METHOD:PUBLISH
X-ORIGINAL-URL:https://tnsatlanta.org
X-WR-CALDESC:Events for The New School
REFRESH-INTERVAL;VALUE=DURATION:PT1H
X-Robots-Tag:noindex
X-PUBLISHED-TTL:PT1H
BEGIN:VTIMEZONE
TZID:America/New_York
BEGIN:DAYLIGHT
TZOFFSETFROM:-0500
TZOFFSETTO:-0400
TZNAME:EDT
DTSTART:20240310T070000
END:DAYLIGHT
BEGIN:STANDARD
TZOFFSETFROM:-0400
TZOFFSETTO:-0500
TZNAME:EST
DTSTART:20241103T060000
END:STANDARD
END:VTIMEZONE
BEGIN:VEVENT
DTSTART;VALUE=DATE:20241028
DTEND;VALUE=DATE:20241102
DTSTAMP:20260422T093007
CREATED:20241017T204852Z
LAST-MODIFIED:20241017T204852Z
UID:10000122-1730073600-1730505599@tnsatlanta.org
SUMMARY:TNS Spirit Week
DESCRIPTION:
URL:https://tnsatlanta.org/event/tns-spirit-week/
END:VEVENT
BEGIN:VEVENT
DTSTART;TZID=America/New_York:20241101T081500
DTEND;TZID=America/New_York:20241101T090000
DTSTAMP:20260422T093007
CREATED:20240904T170911Z
LAST-MODIFIED:20240904T170911Z
UID:10000113-1730448900-1730451600@tnsatlanta.org
SUMMARY:TNS Community Coffee
DESCRIPTION:
URL:https://tnsatlanta.org/event/tns-community-coffee-3/
CATEGORIES:Events
END:VEVENT
BEGIN:VEVENT
DTSTART;TZID=America/New_York:20241112T180000
DTEND;TZID=America/New_York:20241112T200000
DTSTAMP:20260422T093007
CREATED:20240821T152640Z
LAST-MODIFIED:20240821T152640Z
UID:10000107-1731434400-1731441600@tnsatlanta.org
SUMMARY:Open House for Prospective Families
DESCRIPTION:
URL:https://tnsatlanta.org/event/open-house-for-prospective-families/
END:VEVENT
BEGIN:VEVENT
DTSTART;TZID=America/New_York:20241115T180000
DTEND;TZID=America/New_York:20241115T220000
DTSTAMP:20260422T093007
CREATED:20241017T204807Z
LAST-MODIFIED:20241017T204807Z
UID:10000121-1731693600-1731708000@tnsatlanta.org
SUMMARY:TNS Homecoming Dance at Academe of the Oaks!
DESCRIPTION:
URL:https://tnsatlanta.org/event/tns-homecoming-dance-at-academe-of-the-oaks/
END:VEVENT
BEGIN:VEVENT
DTSTART;TZID=America/New_York:20241120T120000
DTEND;TZID=America/New_York:20241120T160000
DTSTAMP:20260422T093007
CREATED:20240813T191040Z
LAST-MODIFIED:20240813T191040Z
UID:10000068-1732104000-1732118400@tnsatlanta.org
SUMMARY:Early Dismissal/Faculty Work Afternoon
DESCRIPTION:Dismissal at 12:00 noon
URL:https://tnsatlanta.org/event/early-dismissal-faculty-work-afternoon-12/
END:VEVENT
BEGIN:VEVENT
DTSTART;VALUE=DATE:20241125
DTEND;VALUE=DATE:20241130
DTSTAMP:20260422T093007
CREATED:20240814T211533Z
LAST-MODIFIED:20240814T211533Z
UID:10000098-1732492800-1732924799@tnsatlanta.org
SUMMARY:Thanksgiving Break - No School
DESCRIPTION:
URL:https://tnsatlanta.org/event/thanksgiving-break-no-school/
END:VEVENT
END:VCALENDAR